BEGIN:VCALENDAR
VERSION:2.0
PRODID:-//De Karolingers - ECPv6.15.20//NONSGML v1.0//EN
CALSCALE:GREGORIAN
METHOD:PUBLISH
X-WR-CALNAME:De Karolingers
X-ORIGINAL-URL:https://dekarolingers.be
X-WR-CALDESC:Evenementen voor De Karolingers
REFRESH-INTERVAL;VALUE=DURATION:PT1H
X-Robots-Tag:noindex
X-PUBLISHED-TTL:PT1H
BEGIN:VTIMEZONE
TZID:UTC
BEGIN:STANDARD
TZOFFSETFROM:+0000
TZOFFSETTO:+0000
TZNAME:UTC
DTSTART:20250101T000000
END:STANDARD
END:VTIMEZONE
BEGIN:VEVENT
DTSTART;TZID=UTC:20261101T103000
DTEND;TZID=UTC:20261101T111500
DTSTAMP:20260419T133742
CREATED:20260111T065503Z
LAST-MODIFIED:20260111T074440Z
UID:2682-1793529000-1793531700@dekarolingers.be
SUMMARY:Allerheiligen
DESCRIPTION:Eucharistieviering opgeluisterd door de Karolingers.
URL:https://dekarolingers.be/viering/allerheiligen-2/
LOCATION:Kruisherenkerk\, Bosstraat\, Maaseik\, Limburg\, 3680\, Belgium
END:VEVENT
BEGIN:VEVENT
DTSTART;TZID=UTC:20261108T103000
DTEND;TZID=UTC:20261108T111500
DTSTAMP:20260419T133742
CREATED:20260111T065503Z
LAST-MODIFIED:20260111T074423Z
UID:2683-1794133800-1794136500@dekarolingers.be
SUMMARY:32ᵉ Zondag door het jaar
DESCRIPTION:Eucharistieviering opgeluisterd door de Karolingers.
URL:https://dekarolingers.be/viering/32%e1%b5%89-zondag-door-het-jaar/
LOCATION:Kruisherenkerk\, Bosstraat\, Maaseik\, Limburg\, 3680\, Belgium
END:VEVENT
BEGIN:VEVENT
DTSTART;TZID=UTC:20261115T103000
DTEND;TZID=UTC:20261115T111500
DTSTAMP:20260419T133742
CREATED:20260111T065503Z
LAST-MODIFIED:20260111T074359Z
UID:2684-1794738600-1794741300@dekarolingers.be
SUMMARY:33e Zondag door het jaar
DESCRIPTION:Eucharistieviering opgeluisterd door de Karolingers.
URL:https://dekarolingers.be/viering/33e-zondag-door-het-jaar/
LOCATION:Kruisherenkerk\, Bosstraat\, Maaseik\, Limburg\, 3680\, Belgium
END:VEVENT
BEGIN:VEVENT
DTSTART;TZID=UTC:20261122T103000
DTEND;TZID=UTC:20261122T111500
DTSTAMP:20260419T133742
CREATED:20260111T065503Z
LAST-MODIFIED:20260111T074347Z
UID:2685-1795343400-1795346100@dekarolingers.be
SUMMARY:Christus Koning van het heelal
DESCRIPTION:Eucharistieviering opgeluisterd door de Karolingers.
URL:https://dekarolingers.be/viering/christus-koning-van-het-heelal/
LOCATION:Kruisherenkerk\, Bosstraat\, Maaseik\, Limburg\, 3680\, Belgium
END:VEVENT
BEGIN:VEVENT
DTSTART;TZID=UTC:20261129T103000
DTEND;TZID=UTC:20261129T111500
DTSTAMP:20260419T133742
CREATED:20260111T065503Z
LAST-MODIFIED:20260111T074326Z
UID:2686-1795948200-1795950900@dekarolingers.be
SUMMARY:1ᵉ Zondag van de Advent
DESCRIPTION:Eucharistieviering opgeluisterd door de Karolingers.
URL:https://dekarolingers.be/viering/1%e1%b5%89-zondag-van-de-advent/
LOCATION:Kruisherenkerk\, Bosstraat\, Maaseik\, Limburg\, 3680\, Belgium
END:VEVENT
END:VCALENDAR