BEGIN:VCALENDAR
VERSION:2.0
PRODID:-//De Karolingers - ECPv6.15.20//NONSGML v1.0//EN
CALSCALE:GREGORIAN
METHOD:PUBLISH
X-WR-CALNAME:De Karolingers
X-ORIGINAL-URL:https://dekarolingers.be
X-WR-CALDESC:Evenementen voor De Karolingers
REFRESH-INTERVAL;VALUE=DURATION:PT1H
X-Robots-Tag:noindex
X-PUBLISHED-TTL:PT1H
BEGIN:VTIMEZONE
TZID:UTC
BEGIN:STANDARD
TZOFFSETFROM:+0000
TZOFFSETTO:+0000
TZNAME:UTC
DTSTART:20250101T000000
END:STANDARD
END:VTIMEZONE
BEGIN:VEVENT
DTSTART;TZID=UTC:20261004T103000
DTEND;TZID=UTC:20261004T111500
DTSTAMP:20260419T120444
CREATED:20260111T065502Z
LAST-MODIFIED:20260111T075032Z
UID:2678-1791109800-1791112500@dekarolingers.be
SUMMARY:27e Zondag door het jaar
DESCRIPTION:Eucharistieviering opgeluisterd door de Karolingers.
URL:https://dekarolingers.be/viering/27e-zondag-door-het-jaar/
LOCATION:Kruisherenkerk\, Bosstraat\, Maaseik\, Limburg\, 3680\, Belgium
END:VEVENT
BEGIN:VEVENT
DTSTART;TZID=UTC:20261011T103000
DTEND;TZID=UTC:20261011T111500
DTSTAMP:20260419T120444
CREATED:20260111T065502Z
LAST-MODIFIED:20260111T075017Z
UID:2679-1791714600-1791717300@dekarolingers.be
SUMMARY:28e Zondag door het jaar
DESCRIPTION:Eucharistieviering opgeluisterd door de Karolingers.
URL:https://dekarolingers.be/viering/28e-zondag-door-het-jaar/
LOCATION:Kruisherenkerk\, Bosstraat\, Maaseik\, Limburg\, 3680\, Belgium
END:VEVENT
BEGIN:VEVENT
DTSTART;TZID=UTC:20261018T103000
DTEND;TZID=UTC:20261018T111500
DTSTAMP:20260419T120444
CREATED:20260111T065502Z
LAST-MODIFIED:20260111T075002Z
UID:2680-1792319400-1792322100@dekarolingers.be
SUMMARY:29e Zondag door het jaar
DESCRIPTION:Eucharistieviering opgeluisterd door de Karolingers.
URL:https://dekarolingers.be/viering/29e-zondag-door-het-jaar/
LOCATION:Kruisherenkerk\, Bosstraat\, Maaseik\, Limburg\, 3680\, Belgium
END:VEVENT
BEGIN:VEVENT
DTSTART;TZID=UTC:20261025T103000
DTEND;TZID=UTC:20261025T111500
DTSTAMP:20260419T120444
CREATED:20260111T065503Z
LAST-MODIFIED:20260111T074944Z
UID:2681-1792924200-1792926900@dekarolingers.be
SUMMARY:30e Zondag door het jaar
DESCRIPTION:Eucharistieviering opgeluisterd door de Karolingers.
URL:https://dekarolingers.be/viering/30e-zondag-door-het-jaar/
LOCATION:Kruisherenkerk\, Bosstraat\, Maaseik\, Limburg\, 3680\, Belgium
END:VEVENT
END:VCALENDAR