BEGIN:VCALENDAR
VERSION:2.0
PRODID:-//De Karolingers - ECPv6.15.20//NONSGML v1.0//EN
CALSCALE:GREGORIAN
METHOD:PUBLISH
X-ORIGINAL-URL:https://dekarolingers.be
X-WR-CALDESC:Evenementen voor De Karolingers
REFRESH-INTERVAL;VALUE=DURATION:PT1H
X-Robots-Tag:noindex
X-PUBLISHED-TTL:PT1H
BEGIN:VTIMEZONE
TZID:UTC
BEGIN:STANDARD
TZOFFSETFROM:+0000
TZOFFSETTO:+0000
TZNAME:UTC
DTSTART:20240101T000000
END:STANDARD
END:VTIMEZONE
BEGIN:VEVENT
DTSTART;TZID=UTC:20251005T103000
DTEND;TZID=UTC:20251005T111500
DTSTAMP:20260419T121505
CREATED:20250816T095043Z
LAST-MODIFIED:20250816T095043Z
UID:1074-1759660200-1759662900@dekarolingers.be
SUMMARY:27ste zondag door het jaar
DESCRIPTION:Eucharistieviering opgeluisterd door de Karolingers
URL:https://dekarolingers.be/viering/27ste-zondag-door-het-jaar-2/
LOCATION:Limburg
END:VEVENT
BEGIN:VEVENT
DTSTART;TZID=UTC:20251012T103000
DTEND;TZID=UTC:20251012T111500
DTSTAMP:20260419T121505
CREATED:20250816T095138Z
LAST-MODIFIED:20250816T095138Z
UID:1076-1760265000-1760267700@dekarolingers.be
SUMMARY:28ste zondag door het jaar
DESCRIPTION:Eucharistieviering opgeluisterd door de Karolingers
URL:https://dekarolingers.be/viering/28ste-zondag-door-het-jaar/
LOCATION:Limburg
END:VEVENT
BEGIN:VEVENT
DTSTART;TZID=UTC:20251019T103000
DTEND;TZID=UTC:20251019T111500
DTSTAMP:20260419T121505
CREATED:20250816T095224Z
LAST-MODIFIED:20250816T095323Z
UID:1078-1760869800-1760872500@dekarolingers.be
SUMMARY:29ste zondag door het jaar
DESCRIPTION:Eucharistieviering opgeluisterd door de Karolingers
URL:https://dekarolingers.be/viering/29ste-zondag-door-het-jaar/
LOCATION:Limburg
END:VEVENT
BEGIN:VEVENT
DTSTART;TZID=UTC:20251026T103000
DTEND;TZID=UTC:20251026T111500
DTSTAMP:20260419T121505
CREATED:20250816T095307Z
LAST-MODIFIED:20250816T095312Z
UID:1080-1761474600-1761477300@dekarolingers.be
SUMMARY:30ste zondag door het jaar
DESCRIPTION:Eucharistieviering opgeluisterd door de Karolingers
URL:https://dekarolingers.be/viering/30ste-zondag-door-het-jaar/
LOCATION:Limburg
END:VEVENT
END:VCALENDAR