BEGIN:VCALENDAR
VERSION:2.0
PRODID:-//De Karolingers - ECPv6.15.20//NONSGML v1.0//EN
CALSCALE:GREGORIAN
METHOD:PUBLISH
X-WR-CALNAME:De Karolingers
X-ORIGINAL-URL:https://dekarolingers.be
X-WR-CALDESC:Evenementen voor De Karolingers
REFRESH-INTERVAL;VALUE=DURATION:PT1H
X-Robots-Tag:noindex
X-PUBLISHED-TTL:PT1H
BEGIN:VTIMEZONE
TZID:UTC
BEGIN:STANDARD
TZOFFSETFROM:+0000
TZOFFSETTO:+0000
TZNAME:UTC
DTSTART:20240101T000000
END:STANDARD
END:VTIMEZONE
BEGIN:VEVENT
DTSTART;TZID=UTC:20250706T103000
DTEND;TZID=UTC:20250706T111500
DTSTAMP:20260419T165240
CREATED:20250526T092046Z
LAST-MODIFIED:20250526T092046Z
UID:837-1751797800-1751800500@dekarolingers.be
SUMMARY:14de zondag door het jaar
DESCRIPTION:Eucharistieviering opgeluisterd door de Karolingers
URL:https://dekarolingers.be/viering/14de-zondag-door-het-jaar/
LOCATION:Limburg
END:VEVENT
BEGIN:VEVENT
DTSTART;TZID=UTC:20250713T103000
DTEND;TZID=UTC:20250713T111500
DTSTAMP:20260419T165240
CREATED:20250526T092127Z
LAST-MODIFIED:20250526T092127Z
UID:839-1752402600-1752405300@dekarolingers.be
SUMMARY:15de zondag door het jaar
DESCRIPTION:Eucharistieviering opgeluisterd door de Karolingers
URL:https://dekarolingers.be/viering/15de-zondag-door-het-jaar/
LOCATION:Limburg
END:VEVENT
BEGIN:VEVENT
DTSTART;TZID=UTC:20250720T103000
DTEND;TZID=UTC:20250720T111500
DTSTAMP:20260419T165240
CREATED:20250526T092214Z
LAST-MODIFIED:20250526T092214Z
UID:841-1753007400-1753010100@dekarolingers.be
SUMMARY:16de zondag door het jaar
DESCRIPTION:Eucharistieviering opgeluisterd door de Karolingers
URL:https://dekarolingers.be/viering/16de-zondag-door-het-jaar/
LOCATION:Limburg
END:VEVENT
BEGIN:VEVENT
DTSTART;TZID=UTC:20250727T103000
DTEND;TZID=UTC:20250727T111500
DTSTAMP:20260419T165240
CREATED:20250526T092246Z
LAST-MODIFIED:20250526T092246Z
UID:843-1753612200-1753614900@dekarolingers.be
SUMMARY:17de zondag door het jaar
DESCRIPTION:Eucharistieviering opgeluisterd door de Karolingers
URL:https://dekarolingers.be/viering/17de-zondag-door-het-jaar/
LOCATION:Limburg
END:VEVENT
END:VCALENDAR