BEGIN:VCALENDAR
VERSION:2.0
PRODID:-//De Karolingers - ECPv6.15.20//NONSGML v1.0//EN
CALSCALE:GREGORIAN
METHOD:PUBLISH
X-ORIGINAL-URL:https://dekarolingers.be
X-WR-CALDESC:Evenementen voor De Karolingers
REFRESH-INTERVAL;VALUE=DURATION:PT1H
X-Robots-Tag:noindex
X-PUBLISHED-TTL:PT1H
BEGIN:VTIMEZONE
TZID:UTC
BEGIN:STANDARD
TZOFFSETFROM:+0000
TZOFFSETTO:+0000
TZNAME:UTC
DTSTART:20250101T000000
END:STANDARD
END:VTIMEZONE
BEGIN:VEVENT
DTSTART;TZID=UTC:20260906T103000
DTEND;TZID=UTC:20260906T111500
DTSTAMP:20260419T140549
CREATED:20260111T065502Z
LAST-MODIFIED:20260111T075126Z
UID:2674-1788690600-1788693300@dekarolingers.be
SUMMARY:23e Zondag door het jaar
DESCRIPTION:Eucharistieviering opgeluisterd door de Karolingers.
URL:https://dekarolingers.be/viering/23e-zondag-door-het-jaar/
LOCATION:Kruisherenkerk\, Bosstraat\, Maaseik\, Limburg\, 3680\, Belgium
END:VEVENT
END:VCALENDAR