BEGIN:VCALENDAR
VERSION:2.0
PRODID:-//De Karolingers - ECPv6.15.20//NONSGML v1.0//EN
CALSCALE:GREGORIAN
METHOD:PUBLISH
X-ORIGINAL-URL:https://dekarolingers.be
X-WR-CALDESC:Evenementen voor De Karolingers
REFRESH-INTERVAL;VALUE=DURATION:PT1H
X-Robots-Tag:noindex
X-PUBLISHED-TTL:PT1H
BEGIN:VTIMEZONE
TZID:UTC
BEGIN:STANDARD
TZOFFSETFROM:+0000
TZOFFSETTO:+0000
TZNAME:UTC
DTSTART:20240101T000000
END:STANDARD
END:VTIMEZONE
BEGIN:VEVENT
DTSTART;TZID=UTC:20251225T103000
DTEND;TZID=UTC:20251225T113000
DTSTAMP:20260421T103420
CREATED:20251114T122826Z
LAST-MODIFIED:20251114T122826Z
UID:1372-1766658600-1766662200@dekarolingers.be
SUMMARY:Kerstviering (eerste kerstdag)
DESCRIPTION:Kerstviering opgeluisterd door De Karolingers die voor de gelegenheid begeleid worden met piano\, fluit en hobo. Ze zingen onder meer het Klein Kerstoratorium van Huub Oosterhuis en Antoine Oomen\, enkele kerstliederen van John Rutter en ook enkele traditionele kerstliederen.
URL:https://dekarolingers.be/viering/kerstviering-eerste-kerstdag/
LOCATION:Limburg
END:VEVENT
END:VCALENDAR