BEGIN:VCALENDAR
VERSION:2.0
PRODID:-//De Karolingers - ECPv6.15.20//NONSGML v1.0//EN
CALSCALE:GREGORIAN
METHOD:PUBLISH
X-ORIGINAL-URL:https://dekarolingers.be
X-WR-CALDESC:Evenementen voor De Karolingers
REFRESH-INTERVAL;VALUE=DURATION:PT1H
X-Robots-Tag:noindex
X-PUBLISHED-TTL:PT1H
BEGIN:VTIMEZONE
TZID:UTC
BEGIN:STANDARD
TZOFFSETFROM:+0000
TZOFFSETTO:+0000
TZNAME:UTC
DTSTART:20240101T000000
END:STANDARD
END:VTIMEZONE
BEGIN:VEVENT
DTSTART;TZID=UTC:20251130T103000
DTEND;TZID=UTC:20251130T111500
DTSTAMP:20260419T121506
CREATED:20251114T121853Z
LAST-MODIFIED:20251114T121853Z
UID:1360-1764498600-1764501300@dekarolingers.be
SUMMARY:1ste zondag van de advent
DESCRIPTION:Eucharistieviering opgeluisterd door De Karolingers.
URL:https://dekarolingers.be/viering/1ste-zondag-van-de-advent/
LOCATION:Limburg
END:VEVENT
END:VCALENDAR