BEGIN:VCALENDAR
VERSION:2.0
PRODID:-//De Karolingers - ECPv6.15.20//NONSGML v1.0//EN
CALSCALE:GREGORIAN
METHOD:PUBLISH
X-ORIGINAL-URL:https://dekarolingers.be
X-WR-CALDESC:Evenementen voor De Karolingers
REFRESH-INTERVAL;VALUE=DURATION:PT1H
X-Robots-Tag:noindex
X-PUBLISHED-TTL:PT1H
BEGIN:VTIMEZONE
TZID:UTC
BEGIN:STANDARD
TZOFFSETFROM:+0000
TZOFFSETTO:+0000
TZNAME:UTC
DTSTART:20240101T000000
END:STANDARD
END:VTIMEZONE
BEGIN:VEVENT
DTSTART;TZID=UTC:20250511T103000
DTEND;TZID=UTC:20250511T111500
DTSTAMP:20260419T215328
CREATED:20250318T154843Z
LAST-MODIFIED:20250318T154850Z
UID:492-1746959400-1746962100@dekarolingers.be
SUMMARY:4de zondag van Pasen\, moederdag
DESCRIPTION:Eucharistieviering opgeluisterd door de Karolingers
URL:https://dekarolingers.be/viering/4de-zondag-van-pasen-moedrdag/
LOCATION:Limburg
END:VEVENT
END:VCALENDAR