BEGIN:VCALENDAR
VERSION:2.0
PRODID:-//De Karolingers - ECPv6.15.20//NONSGML v1.0//EN
CALSCALE:GREGORIAN
METHOD:PUBLISH
X-ORIGINAL-URL:https://dekarolingers.be
X-WR-CALDESC:Evenementen voor De Karolingers
REFRESH-INTERVAL;VALUE=DURATION:PT1H
X-Robots-Tag:noindex
X-PUBLISHED-TTL:PT1H
BEGIN:VTIMEZONE
TZID:UTC
BEGIN:STANDARD
TZOFFSETFROM:+0000
TZOFFSETTO:+0000
TZNAME:UTC
DTSTART:20240101T000000
END:STANDARD
END:VTIMEZONE
BEGIN:VEVENT
DTSTART;TZID=UTC:20250417T180000
DTEND;TZID=UTC:20250417T190000
DTSTAMP:20260419T233950
CREATED:20250310T081042Z
LAST-MODIFIED:20250310T081042Z
UID:461-1744912800-1744916400@dekarolingers.be
SUMMARY:Wittedonderdagviering
DESCRIPTION:Plechtige concelebratie opgeluisterd door De Karolingers\, waarna tot 21:00 uur aanbidding in de Odiliakapel van de kerk
URL:https://dekarolingers.be/viering/wittedonderdagviering/
LOCATION:Limburg
END:VEVENT
END:VCALENDAR